BEGIN:VCALENDAR
VERSION:2.0
PRODID:-//The Charleston Chapter of the South Carolina Genealogical Society - ECPv6.15.20//NONSGML v1.0//EN
CALSCALE:GREGORIAN
METHOD:PUBLISH
X-WR-CALNAME:The Charleston Chapter of the South Carolina Genealogical Society
X-ORIGINAL-URL:https://charlestongenealogy.org
X-WR-CALDESC:Events for The Charleston Chapter of the South Carolina Genealogical Society
REFRESH-INTERVAL;VALUE=DURATION:PT1H
X-Robots-Tag:noindex
X-PUBLISHED-TTL:PT1H
BEGIN:VTIMEZONE
TZID:America/New_York
BEGIN:DAYLIGHT
TZOFFSETFROM:-0500
TZOFFSETTO:-0400
TZNAME:EDT
DTSTART:20180311T070000
END:DAYLIGHT
BEGIN:STANDARD
TZOFFSETFROM:-0400
TZOFFSETTO:-0500
TZNAME:EST
DTSTART:20181104T060000
END:STANDARD
BEGIN:DAYLIGHT
TZOFFSETFROM:-0500
TZOFFSETTO:-0400
TZNAME:EDT
DTSTART:20190310T070000
END:DAYLIGHT
BEGIN:STANDARD
TZOFFSETFROM:-0400
TZOFFSETTO:-0500
TZNAME:EST
DTSTART:20191103T060000
END:STANDARD
BEGIN:DAYLIGHT
TZOFFSETFROM:-0500
TZOFFSETTO:-0400
TZNAME:EDT
DTSTART:20200308T070000
END:DAYLIGHT
BEGIN:STANDARD
TZOFFSETFROM:-0400
TZOFFSETTO:-0500
TZNAME:EST
DTSTART:20201101T060000
END:STANDARD
BEGIN:DAYLIGHT
TZOFFSETFROM:-0500
TZOFFSETTO:-0400
TZNAME:EDT
DTSTART:20210314T070000
END:DAYLIGHT
BEGIN:STANDARD
TZOFFSETFROM:-0400
TZOFFSETTO:-0500
TZNAME:EST
DTSTART:20211107T060000
END:STANDARD
END:VTIMEZONE
BEGIN:VTIMEZONE
TZID:America/Halifax
BEGIN:DAYLIGHT
TZOFFSETFROM:-0400
TZOFFSETTO:-0300
TZNAME:ADT
DTSTART:20160313T060000
END:DAYLIGHT
BEGIN:STANDARD
TZOFFSETFROM:-0300
TZOFFSETTO:-0400
TZNAME:AST
DTSTART:20161106T050000
END:STANDARD
BEGIN:DAYLIGHT
TZOFFSETFROM:-0400
TZOFFSETTO:-0300
TZNAME:ADT
DTSTART:20170312T060000
END:DAYLIGHT
BEGIN:STANDARD
TZOFFSETFROM:-0300
TZOFFSETTO:-0400
TZNAME:AST
DTSTART:20171105T050000
END:STANDARD
BEGIN:DAYLIGHT
TZOFFSETFROM:-0400
TZOFFSETTO:-0300
TZNAME:ADT
DTSTART:20180311T060000
END:DAYLIGHT
BEGIN:STANDARD
TZOFFSETFROM:-0300
TZOFFSETTO:-0400
TZNAME:AST
DTSTART:20181104T050000
END:STANDARD
BEGIN:DAYLIGHT
TZOFFSETFROM:-0400
TZOFFSETTO:-0300
TZNAME:ADT
DTSTART:20190310T060000
END:DAYLIGHT
BEGIN:STANDARD
TZOFFSETFROM:-0300
TZOFFSETTO:-0400
TZNAME:AST
DTSTART:20191103T050000
END:STANDARD
END:VTIMEZONE
BEGIN:VEVENT
DTSTART;TZID=America/New_York:20200517T143000
DTEND;TZID=America/New_York:20200517T163000
DTSTAMP:20260423T054343
CREATED:20191212T203404Z
LAST-MODIFIED:20191213T004606Z
UID:50352-1589725800-1589733000@charlestongenealogy.org
SUMMARY:May 2020 Chapter Meeting
DESCRIPTION:Chapter member Harriet Little will be discussing her recently released book “Richardson-Sinkler Connections: Planting\, Politics\, Horses\, and Family Life\, 1769-1853”
URL:https://charlestongenealogy.org/event/may-2020-chapter-meeting/
LOCATION:The Masonic Center\, 1285 Orange Grove Rd\, Charleston\, SC\, 29407\, United States
END:VEVENT
BEGIN:VEVENT
DTSTART;TZID=America/New_York:20200419T143000
DTEND;TZID=America/New_York:20200419T163000
DTSTAMP:20260423T054343
CREATED:20191212T202950Z
LAST-MODIFIED:20200330T221020Z
UID:50350-1587306600-1587313800@charlestongenealogy.org
SUMMARY:April 2020 Chapter Meeting
DESCRIPTION:PLEASE NOTE – due to COVID-19 restrictions imposed by the City of Charleston\, our April meeting is on hold. Please check our calendar once the restrictions are lifted.
URL:https://charlestongenealogy.org/event/april-2020-chapter-meeting/
LOCATION:The Masonic Center\, 1285 Orange Grove Rd\, Charleston\, SC\, 29407\, United States
END:VEVENT
BEGIN:VEVENT
DTSTART;TZID=America/New_York:20200322T143000
DTEND;TZID=America/New_York:20200322T163000
DTSTAMP:20260423T054343
CREATED:20191212T202755Z
LAST-MODIFIED:20200314T133744Z
UID:50348-1584887400-1584894600@charlestongenealogy.org
SUMMARY:** Chapter Meeting Cancelled **
DESCRIPTION:The March meeting has been cancelled because of virus concerns. We will try to reschedule Dr. Ellison’s presentation.
URL:https://charlestongenealogy.org/event/march-2020-chapter-meeting/
LOCATION:The Masonic Center\, 1285 Orange Grove Rd\, Charleston\, SC\, 29407\, United States
END:VEVENT
BEGIN:VEVENT
DTSTART;TZID=America/New_York:20200216T143000
DTEND;TZID=America/New_York:20200216T163000
DTSTAMP:20260423T054343
CREATED:20191212T202602Z
LAST-MODIFIED:20191212T202602Z
UID:50346-1581863400-1581870600@charlestongenealogy.org
SUMMARY:February 2020 Chapter Meeting
DESCRIPTION:“The Mayflower Society and How to Prove Your Lineage” presented by Bonnie Wade-Mucia.
URL:https://charlestongenealogy.org/event/february-2020-chapter-meeting/
LOCATION:The Masonic Center\, 1285 Orange Grove Rd\, Charleston\, SC\, 29407\, United States
END:VEVENT
BEGIN:VEVENT
DTSTART;TZID=America/New_York:20200119T143000
DTEND;TZID=America/New_York:20200119T163000
DTSTAMP:20260423T054343
CREATED:20191212T202355Z
LAST-MODIFIED:20200103T143008Z
UID:50344-1579444200-1579451400@charlestongenealogy.org
SUMMARY:January 2020 Chapter Meeting
DESCRIPTION:“Looking Around Us – A Tour of the Masonic Lodge” presented by Tom Lewis will be an informative tour of the place where we routinely meet.
URL:https://charlestongenealogy.org/event/january-2020-chapter-meeting/
LOCATION:The Masonic Center\, 1285 Orange Grove Rd\, Charleston\, SC\, 29407\, United States
END:VEVENT
BEGIN:VEVENT
DTSTART;TZID=America/New_York:20191215T143000
DTEND;TZID=America/New_York:20191215T163000
DTSTAMP:20260423T054343
CREATED:20181217T030105Z
LAST-MODIFIED:20190609T171135Z
UID:2128-1576420200-1576427400@charlestongenealogy.org
SUMMARY:December 2019 Chapter Meeting
DESCRIPTION:December is our annual “Show and Tell” holidays get-together. We invite chapter members to talk about genealogy-related “news” from the year – there’s always lots of tasty goodies too!  Come join us and learn a bit more about what’s been happening with our members. \nIf you would like to present at this meeting\, let Karolea Lucas know.
URL:https://charlestongenealogy.org/event/december-2019-chapter-meeting/
LOCATION:The Masonic Center\, 1285 Orange Grove Rd\, Charleston\, SC\, 29407\, United States
END:VEVENT
BEGIN:VEVENT
DTSTART;TZID=America/New_York:20191117T143000
DTEND;TZID=America/New_York:20191117T163000
DTSTAMP:20260423T054343
CREATED:20181217T024634Z
LAST-MODIFIED:20191021T124801Z
UID:2126-1574001000-1574008200@charlestongenealogy.org
SUMMARY:November 2019 Chapter Meeting
DESCRIPTION:Our presenter for November will be Jeff W. Grigg\, author of “The Combahee River Raid: Harriet Tubman & Lowcountry Liberation” who will discuss the true story behind this Civil War raid in the South Carolina Lowcountry.   In an attempt to remedy the Union Army’s inability to adequately fill its black regiments\, Colonel James Montgomery led an 1863 raid up the Combahee River with the aid of famed abolitionist Harriet Tubman. The remarkable effort successfully rescued about 750 enslaved men\, women\, and children. Only one soldier was killed in the action\, which marked a strategy shift in the war that took the fight to civilians.
URL:https://charlestongenealogy.org/event/november-2019-chapter-meeting/
LOCATION:The Masonic Center\, 1285 Orange Grove Rd\, Charleston\, SC\, 29407\, United States
END:VEVENT
BEGIN:VEVENT
DTSTART;TZID=America/New_York:20191020T143000
DTEND;TZID=America/New_York:20191020T163000
DTSTAMP:20260423T054343
CREATED:20181217T024508Z
LAST-MODIFIED:20190609T153547Z
UID:2124-1571581800-1571589000@charlestongenealogy.org
SUMMARY:October 2019 Chapter Meeting
DESCRIPTION:Our October meeting will be a great SHARE-ATHON where we’ll divide up into smaller groups to discuss genealogical areas of interest and research opportunities around the United States.  We’ve been canvasing our members about their wants and needs\, so topics will be tailored to those of most interest.  It should be a fun afternoon of sharing and learning. \nBe sure to bring info that will help others with how to best conduct research in a particular state or region.
URL:https://charlestongenealogy.org/event/october-2019-chapter-meeting/
LOCATION:The Masonic Center\, 1285 Orange Grove Rd\, Charleston\, SC\, 29407\, United States
END:VEVENT
BEGIN:VEVENT
DTSTART;VALUE=DATE:20191011
DTEND;VALUE=DATE:20191013
DTSTAMP:20260423T054343
CREATED:20190609T160304Z
LAST-MODIFIED:20190609T172434Z
UID:47988-1570752000-1570924799@charlestongenealogy.org
SUMMARY:SCGS State Conference
DESCRIPTION:SAVE THE DATE! \nThe annual SCGS State Conference will be in Charleston this year – two days of genealogy\, history\, and fun in the Lowcountry! \nFriday\, Oct. 11:\n3:00pm – 7:30pm – Conference check-in at the new CAMBRiA Hotel.\n7:30pm – 9:00pm – Opening session at the hotel – speaker\, Grahame Long\, Curator of history at the Charleston Museum. \nSaturday\, Oct. 12:\n9:00am – 3:00pm – Charleston SC Family History Center Annual Workshop.\n3:00pm – 4:30pm – SCGS Annual Meeting right after the FHC Workshop. \nRegistration: $35 (details forthcoming – includes all costs for FHC Workshop).\nClick Here to learn more about the FHC workshop. \nHost Hotel:\nCAMBRiA Hotel\, 84 Ripley Point Dr\, Charleston\, SC 29407 (843) 766-4322\nClick Here to book your room NOW!
URL:https://charlestongenealogy.org/event/scgs-state-conference/
LOCATION:CAMBRiA Hotel\, 84 Ripley Point Dr\, Charleston\, SC\, 29407\, United States
END:VEVENT
BEGIN:VEVENT
DTSTART;TZID=America/New_York:20190915T143000
DTEND;TZID=America/New_York:20190915T163000
DTSTAMP:20260423T054343
CREATED:20181217T024023Z
LAST-MODIFIED:20190613T121829Z
UID:2122-1568557800-1568565000@charlestongenealogy.org
SUMMARY:September 2019 Chapter Meeting
DESCRIPTION:Our presenter for September will be DR. NIC BUTLER whose presentations are always fascinating and entertaining.  The topic is still being finalized\, so please back check for updates.  For those of you who are new to the area\, Dr. Butler is Historian for the Charleston County Public Library and has worked as Archivist of the SC Historical Society\, as an adjunct faculty member at the College of Charleston\, and as an historical consultant for the City of Charleston. \nPlease note the VENUE CHANGE as this meeting will be at the Charleston County Main Library and will be open to the public.
URL:https://charlestongenealogy.org/event/september-2019-chapter-meeting/
LOCATION:Chas County Main Library\, 68 Calhoun Street\, Charleston\, SC\, 29401
END:VEVENT
BEGIN:VEVENT
DTSTART;TZID=America/New_York:20190519T143000
DTEND;TZID=America/New_York:20190519T163000
DTSTAMP:20260423T054343
CREATED:20181217T023849Z
LAST-MODIFIED:20181217T023849Z
UID:2120-1558276200-1558283400@charlestongenealogy.org
SUMMARY:May 2019 Chapter Metting
DESCRIPTION:
URL:https://charlestongenealogy.org/event/may-2019-chapter-metting/
LOCATION:The Masonic Center\, 1285 Orange Grove Rd\, Charleston\, SC\, 29407\, United States
END:VEVENT
BEGIN:VEVENT
DTSTART;TZID=America/New_York:20190514T180000
DTEND;TZID=America/New_York:20190514T190000
DTSTAMP:20260423T054343
CREATED:20190331T172734Z
LAST-MODIFIED:20190331T172734Z
UID:2406-1557856800-1557860400@charlestongenealogy.org
SUMMARY:Part II: Census Puzzle 1900 - 1940
DESCRIPTION:“Part II: Census Puzzle 1900 – 1940: Do You Have All the Pieces?” is the second of two presentations by Chapter member Pat Kruger that will look deep into the Census Population Schedules to help you find clues for further research and identify sources to help you understand what doesn’t seem to make sense. This is not Census 101. It’s census details only a genealogist could love\, and a bureaucrat could create.
URL:https://charlestongenealogy.org/event/part-ii-census-puzzle-1900-1940/
LOCATION:Chas County Main Library\, 68 Calhoun Street\, Charleston\, SC\, 29401
END:VEVENT
BEGIN:VEVENT
DTSTART;TZID=America/New_York:20190428T143000
DTEND;TZID=America/New_York:20190428T163000
DTSTAMP:20260423T054343
CREATED:20181217T022224Z
LAST-MODIFIED:20190331T155240Z
UID:2118-1556461800-1556469000@charlestongenealogy.org
SUMMARY:April 2019 Chapter Meeting
DESCRIPTION:The program for our April meeting by Chapter member Pat Kruger will be “Part I:  Census Puzzle 1790 – 1890:  Do You Have All the Pieces?”  This is the first of two parts that will look deep into the Census Population Schedules to help you find clues for further research and identify sources to help you understand what doesn’t seem to make sense. Focusing on the first hundred years (1790 – 1890)\, this session will review census changes and discuss what categories\, questions AND answers might really mean? It will look at the early schedules that can be so hard to use and highlight some of the details hiding within. \nThis is not Census 101.  We will get into the details. We will talk about the meaning of blank columns (yes\, sometimes they mean something)\, the differences between ‘x’ and ‘=’ as answers\, and even explore why your deceased ancestor might not be in the mortality schedule. It’s census details only a genealogist could love\, and a bureaucrat could create. \nPat’s “Part II: Census Puzzle 1900 – 1940: Do You Have All the Pieces?” will be held TUESDAY evening\, May 14 at 6 PM – Main Library (CCPL)\, Room B\, and will focus on 1900 – 1940 when the details and hidden meanings really get interesting.
URL:https://charlestongenealogy.org/event/april-2019-chapter-meeting/
LOCATION:The Masonic Center\, 1285 Orange Grove Rd\, Charleston\, SC\, 29407\, United States
END:VEVENT
BEGIN:VEVENT
DTSTART;TZID=America/New_York:20190324T143000
DTEND;TZID=America/New_York:20190324T163000
DTSTAMP:20260423T054343
CREATED:20181217T021737Z
LAST-MODIFIED:20190320T134240Z
UID:2114-1553437800-1553445000@charlestongenealogy.org
SUMMARY:March 2019 Chapter Meeting
DESCRIPTION:Chapter member Jeff Castle will discuss the different forms of research that make up the exciting field of forensic genealogy.  From missing heirs to military repatriation to unknown parentage and more\, forensic genealogy utilizes traditional genealogical research skills in many different legal applications.
URL:https://charlestongenealogy.org/event/march-2019-chapter-meeting/
LOCATION:The Masonic Center\, 1285 Orange Grove Rd\, Charleston\, SC\, 29407\, United States
END:VEVENT
BEGIN:VEVENT
DTSTART;TZID=America/New_York:20190217T143000
DTEND;TZID=America/New_York:20190217T163000
DTSTAMP:20260423T054343
CREATED:20181217T022012Z
LAST-MODIFIED:20190112T234709Z
UID:2116-1550413800-1550421000@charlestongenealogy.org
SUMMARY:February 2019 Chapter Meeting
DESCRIPTION:Our speaker for February will be local genealogist and long-time chapter member Wevonneda Minis.  Her topic will be “Enslaved Blacks in White Church Records: An Overlooked Resource.”   \nGenealogists tracing enslaved ancestors often limit their searches to slaveholders’ wills\, plantation journals\, and deeds. This presentation shows that many family historians would benefit from researching white church records\, too. Pre-Civil War church records often include details about slave births\, deaths\, family members\, sales\, and more. A range of denominations and types of church records will be covered. Photography\, videography or other types of recording will be prohibited.
URL:https://charlestongenealogy.org/event/february-2019-chapter-meeting/
LOCATION:The Masonic Center\, 1285 Orange Grove Rd\, Charleston\, SC\, 29407\, United States
END:VEVENT
BEGIN:VEVENT
DTSTART;TZID=America/New_York:20190216T090000
DTEND;TZID=America/New_York:20190216T160000
DTSTAMP:20260423T054343
CREATED:20190123T224111Z
LAST-MODIFIED:20190123T224704Z
UID:2233-1550307600-1550332800@charlestongenealogy.org
SUMMARY:Field Trip to Old Jacksonborough Historic District
DESCRIPTION:Our field trip to Old Jacksonborough (open to Chapter members and their guests only) will include six stops: Col. William Washington grave site; Old Jacksonborough Walking Trail; Pon Pon Chapel of Ease (The Old Burnt Church); Col. Isaac Hayne grave site; Willtown Bluff; and Stono Rebellion historical marker.  See our latest Lowcountry Courier for more details.  \nWe will rendezvous in the parking lot of the Publix Super Market at West Ashley Place (near Bees Ferry Road) and will leave promptly at 9:30 am.  A $10 fee per person will be collected on arrival at Publix (to cover the cost of our docent from the Colleton Historical and Preservation Society) so bring $10 check or cash with you.  Also bring a snack and beverage as our lunch stop will be late. \nPlease email Doreen Larimer if attending so that we know who to contact in case of bad weather.
URL:https://charlestongenealogy.org/event/field-trip-to-old-jacksonborough-historic-district/
LOCATION:SC
END:VEVENT
BEGIN:VEVENT
DTSTART;TZID=America/New_York:20190120T143000
DTEND;TZID=America/New_York:20190120T163000
DTSTAMP:20260423T054343
CREATED:20181217T021408Z
LAST-MODIFIED:20190111T213915Z
UID:2112-1547994600-1548001800@charlestongenealogy.org
SUMMARY:January 2019 Chapter Meeting
DESCRIPTION:Chapter member Lynn Baker will discuss how to use Google to find your ancestors and research data.  He’ll cover both basic and advanced search features\, and how to set up automatic Alerts for queries and using Translate for foreign language sites around the world.  Finally\, we’ll dive into some specialty areas (Google Scholar\, Google Books\, and Google Patents) to help you expand your family story.
URL:https://charlestongenealogy.org/event/january-2019-chapter-meeting/
LOCATION:The Masonic Center\, 1285 Orange Grove Rd\, Charleston\, SC\, 29407\, United States
END:VEVENT
BEGIN:VEVENT
DTSTART;TZID=America/New_York:20190109T110000
DTEND;TZID=America/New_York:20190109T130000
DTSTAMP:20260423T054343
CREATED:20181217T021250Z
LAST-MODIFIED:20181217T021250Z
UID:2110-1547031600-1547038800@charlestongenealogy.org
SUMMARY:Board Meeting
DESCRIPTION:
URL:https://charlestongenealogy.org/event/board-meeting/
LOCATION:Chas County Main Library\, 68 Calhoun Street\, Charleston\, SC\, 29401
END:VEVENT
BEGIN:VEVENT
DTSTART;TZID=America/Halifax:20181216T143000
DTEND;TZID=America/Halifax:20181216T163000
DTSTAMP:20260423T054343
CREATED:20171027T201553Z
LAST-MODIFIED:20181102T171836Z
UID:1459-1544970600-1544977800@charlestongenealogy.org
SUMMARY:December 2018 Chapter Meeting
DESCRIPTION:Mark your calendars now for the December 16th genealogy meeting.  It is our annual “Show and Tell” meeting. If you would like to present something you have been working on\, or if you have discovered something related to genealogy that would be of benefit to the membership\, we would love to hear from you!  Each presenter is limited to 10 minutes – and yes\, I will have my stopwatch going.  We will have basic audio-visual set-ups for you\, with someone to help connect everything. \nPlease contact Karolea Lucas if you are interested or if you have any questions (see our membership list for her phone number & email address).  She will need a title and a short synopsis of your presentation.  Remember this does not have to be fancy; it is a time for all of us to relax and share something we have learned or done during the year.
URL:https://charlestongenealogy.org/event/december-2018-chapter-meeting/
LOCATION:SC
END:VEVENT
BEGIN:VEVENT
DTSTART;TZID=America/Halifax:20181118T143000
DTEND;TZID=America/Halifax:20181118T163000
DTSTAMP:20260423T054343
CREATED:20171027T201447Z
LAST-MODIFIED:20181102T164827Z
UID:1457-1542551400-1542558600@charlestongenealogy.org
SUMMARY:November 2018 Chapter Meeting
DESCRIPTION:We are excited to welcome Cheri Hudson Passey\, a professional genealogist and owner of Carolina Girl Genealogy\, LLC\, as our speaker for the November meeting.  Cheri’s presentation “Reeling ‘Em in with a Family History Blog” will show you where to discover tools used to set up your blog\, find ideas and see examples of what to write about\, and learn how to use your posts to connect with others. Creating your own genealogy blog is a great way to share your research with your family and friends\, and can be invaluable in helping to build your family tree.  Do join us on November 18 for this very informative lecture.
URL:https://charlestongenealogy.org/event/november-2018-chapter-meeting/
LOCATION:SC
END:VEVENT
BEGIN:VEVENT
DTSTART;TZID=America/Halifax:20181021T143000
DTEND;TZID=America/Halifax:20181021T163000
DTSTAMP:20260423T054343
CREATED:20171027T201231Z
LAST-MODIFIED:20181005T123954Z
UID:1455-1540132200-1540139400@charlestongenealogy.org
SUMMARY:October 2018 Chapter Meeting
DESCRIPTION:At our October meeting\, Probate Court Judge Irv Condon will present an encompassing look at Probate Court.  Judge Condon will discuss the history of the Probate Courts in South Carolina and the records of the probate court.  There will be also an overview of the functions of the probate court and the need for proper estate planning.
URL:https://charlestongenealogy.org/event/october-2018-chapter-meeting/
LOCATION:SC
END:VEVENT
BEGIN:VEVENT
DTSTART;TZID=America/Halifax:20180916T143000
DTEND;TZID=America/Halifax:20180916T163000
DTSTAMP:20260423T054343
CREATED:20171027T201118Z
LAST-MODIFIED:20180911T124914Z
UID:1453-1537108200-1537115400@charlestongenealogy.org
SUMMARY:September 2018 Chapter Meeting - CANCELLED
DESCRIPTION:Our Sep 16th meeting has been CANCELLED due to Hurricane Florence.  Please join us for our next meeting on Oct 20th.
URL:https://charlestongenealogy.org/event/september-2018-chapter-meeting/
LOCATION:SC
END:VEVENT
BEGIN:VEVENT
DTSTART;TZID=America/Halifax:20180520T143000
DTEND;TZID=America/Halifax:20180520T163000
DTSTAMP:20260423T054343
CREATED:20171027T201025Z
LAST-MODIFIED:20180410T010448Z
UID:1451-1526826600-1526833800@charlestongenealogy.org
SUMMARY:May 2018 Chapter Meeting
DESCRIPTION:Local scuba diving enthusiast Drew Ruddy will present “The Lewisfield Vessel – a British Casualty of the 1781 Dog Day Foray.” Drew will explain what he’s discovered while diving on this little known Revolutionary War wreck in the upper reaches of the Cooper River.
URL:https://charlestongenealogy.org/event/may-2018-chapter-meeting/
LOCATION:SC
END:VEVENT
BEGIN:VEVENT
DTSTART;TZID=America/Halifax:20180415T143000
DTEND;TZID=America/Halifax:20180415T163000
DTSTAMP:20260423T054343
CREATED:20171027T200938Z
LAST-MODIFIED:20180310T005431Z
UID:1449-1523802600-1523809800@charlestongenealogy.org
SUMMARY:April 2018 Chapter Meeting
DESCRIPTION:Chapter member Doreen Larimer will review how land was granted and developed in South Carolina.  Our Charleston County Public Library has an extensive collection of will and deed abstracts for SC counties\, and Doreen will focus on how to use them to locate our ancestor’s land.
URL:https://charlestongenealogy.org/event/april-2018-chapter-meeting/
LOCATION:The Masonic Center\, 1285 Orange Grove Rd\, Charleston\, SC\, 29407\, United States
END:VEVENT
BEGIN:VEVENT
DTSTART;TZID=America/Halifax:20180318T143000
DTEND;TZID=America/Halifax:20180318T163000
DTSTAMP:20260423T054343
CREATED:20171027T200722Z
LAST-MODIFIED:20180309T150849Z
UID:1447-1521383400-1521390600@charlestongenealogy.org
SUMMARY:March 2018 Chapter Meeting
DESCRIPTION:Chapter member Pat Kruger will present “Using the Digital Public Library (DPLA).”  This virtual library provides a wealth of text\, video\, objects and images in its vast and ever increasing collections; its resources are a great way to add context and events to your ancestral stories.  Pat’s program will explore the genealogical value of the DPLA holdings and explain a variety of ways to search the new version (about to change) of the DPLA website.
URL:https://charlestongenealogy.org/event/march-2018-chapter-meeting/
LOCATION:The Masonic Center\, 1285 Orange Grove Rd\, Charleston\, SC\, 29407\, United States
END:VEVENT
BEGIN:VEVENT
DTSTART;TZID=America/Halifax:20180218T143000
DTEND;TZID=America/Halifax:20180218T163000
DTSTAMP:20260423T054343
CREATED:20171027T200318Z
LAST-MODIFIED:20171208T205131Z
UID:1445-1518964200-1518971400@charlestongenealogy.org
SUMMARY:February 2018 Chapter Meeting
DESCRIPTION:Chapter member Rorey Cathcart will present her “Irish In America” which she was unable to present at the Family History Center’s annual workshop this past October.  Rorey’s presentation will highlight how to use arrival and distribution patterns as clues to places of origin.
URL:https://charlestongenealogy.org/event/february-2018-chapter-meeting/
LOCATION:The Masonic Center\, 1285 Orange Grove Rd\, Charleston\, SC\, 29407\, United States
END:VEVENT
BEGIN:VEVENT
DTSTART;TZID=America/Halifax:20180121T143000
DTEND;TZID=America/Halifax:20180121T163000
DTSTAMP:20260423T054343
CREATED:20171027T195949Z
LAST-MODIFIED:20180119T194221Z
UID:1443-1516545000-1516552200@charlestongenealogy.org
SUMMARY:January 2018 Chapter Meeting
DESCRIPTION:Chapter member\, Lynn Baker will explain how genealogists can maximize the benefits of an Ancestry.com Autosomal DNA test.
URL:https://charlestongenealogy.org/event/january-2018-chapter-meeting/
LOCATION:The Masonic Center\, 1285 Orange Grove Rd\, Charleston\, SC\, 29407\, United States
END:VEVENT
BEGIN:VEVENT
DTSTART;TZID=America/Halifax:20171217T143000
DTEND;TZID=America/Halifax:20171217T163000
DTSTAMP:20260423T054343
CREATED:20170521T151446Z
LAST-MODIFIED:20171027T195005Z
UID:1088-1513521000-1513528200@charlestongenealogy.org
SUMMARY:December 2017 Chapter Meeting
DESCRIPTION:Join us for our annual holiday meeting – everyone is asked to bring a favorite finger-food.  Several of our Chapter members will also give brief “show and tell” presentations about their genealogy accomplishments during 2017.
URL:https://charlestongenealogy.org/event/december-2017-chapter-meeting/
LOCATION:The Masonic Center\, 1285 Orange Grove Rd\, Charleston\, SC\, 29407\, United States
END:VEVENT
BEGIN:VEVENT
DTSTART;TZID=America/Halifax:20171119T143000
DTEND;TZID=America/Halifax:20171119T163000
DTSTAMP:20260423T054343
CREATED:20170521T151355Z
LAST-MODIFIED:20171027T195409Z
UID:1086-1511101800-1511109000@charlestongenealogy.org
SUMMARY:November 2017 Chapter Meeting
DESCRIPTION:Chapter member Charlie Black will provide an overview of the upcoming changes to the Find-A-Grave website and will also explain the website’s tools for creating new memorials.
URL:https://charlestongenealogy.org/event/november-2017-chapter-meeting/
LOCATION:The Masonic Center\, 1285 Orange Grove Rd\, Charleston\, SC\, 29407\, United States
END:VEVENT
BEGIN:VEVENT
DTSTART;TZID=America/Halifax:20171015T143000
DTEND;TZID=America/Halifax:20171015T163000
DTSTAMP:20260423T054343
CREATED:20170521T151253Z
LAST-MODIFIED:20170521T151253Z
UID:1084-1508077800-1508085000@charlestongenealogy.org
SUMMARY:October 2017 Chapter Meeting
DESCRIPTION:
URL:https://charlestongenealogy.org/event/october-2017-chapter-meeting/
LOCATION:The Masonic Center\, 1285 Orange Grove Rd\, Charleston\, SC\, 29407\, United States
END:VEVENT
END:VCALENDAR