BEGIN:VCALENDAR
VERSION:2.0
PRODID:-//The Charleston Chapter of the South Carolina Genealogical Society - ECPv6.15.20//NONSGML v1.0//EN
CALSCALE:GREGORIAN
METHOD:PUBLISH
X-WR-CALNAME:The Charleston Chapter of the South Carolina Genealogical Society
X-ORIGINAL-URL:https://charlestongenealogy.org
X-WR-CALDESC:Events for The Charleston Chapter of the South Carolina Genealogical Society
REFRESH-INTERVAL;VALUE=DURATION:PT1H
X-Robots-Tag:noindex
X-PUBLISHED-TTL:PT1H
BEGIN:VTIMEZONE
TZID:America/New_York
BEGIN:DAYLIGHT
TZOFFSETFROM:-0500
TZOFFSETTO:-0400
TZNAME:EDT
DTSTART:20250309T070000
END:DAYLIGHT
BEGIN:STANDARD
TZOFFSETFROM:-0400
TZOFFSETTO:-0500
TZNAME:EST
DTSTART:20251102T060000
END:STANDARD
BEGIN:DAYLIGHT
TZOFFSETFROM:-0500
TZOFFSETTO:-0400
TZNAME:EDT
DTSTART:20260308T070000
END:DAYLIGHT
BEGIN:STANDARD
TZOFFSETFROM:-0400
TZOFFSETTO:-0500
TZNAME:EST
DTSTART:20261101T060000
END:STANDARD
BEGIN:DAYLIGHT
TZOFFSETFROM:-0500
TZOFFSETTO:-0400
TZNAME:EDT
DTSTART:20270314T070000
END:DAYLIGHT
BEGIN:STANDARD
TZOFFSETFROM:-0400
TZOFFSETTO:-0500
TZNAME:EST
DTSTART:20271107T060000
END:STANDARD
END:VTIMEZONE
BEGIN:VEVENT
DTSTART;TZID=America/New_York:20260315T143000
DTEND;TZID=America/New_York:20260315T160000
DTSTAMP:20260422T200430
CREATED:20260227T001707Z
LAST-MODIFIED:20260306T162151Z
UID:63782-1773585000-1773590400@charlestongenealogy.org
SUMMARY:Mar 2026 Chapter Meeting
DESCRIPTION:Our March meeting will be a round table of research problems rather than a specific topic presentation. Members who have a genealogical brick wall or research problem are submitting well-defined genealogical background information before the meeting and we will choose three or four to discuss during the meeting to try to help the researcher break through their difficulty.  \nThe meeting will be held at the Masonic Center but will also be viewable via Zoom. Guests are always welcome\, so please CONTACT US if you are not yet a chapter member and want to participate via Zoom.
URL:https://charlestongenealogy.org/event/mar-2026-chapter-meeting/
LOCATION:The Masonic Center\, 1285 Orange Grove Rd\, Charleston\, SC\, 29407\, United States
END:VEVENT
END:VCALENDAR